BEGIN:VCALENDAR
VERSION:2.0
PRODID:-//Intermountain Fair Housing Council - ECPv6.15.20//NONSGML v1.0//EN
CALSCALE:GREGORIAN
METHOD:PUBLISH
X-WR-CALNAME:Intermountain Fair Housing Council
X-ORIGINAL-URL:https://ifhcidaho.org
X-WR-CALDESC:Events for Intermountain Fair Housing Council
REFRESH-INTERVAL;VALUE=DURATION:PT1H
X-Robots-Tag:noindex
X-PUBLISHED-TTL:PT1H
BEGIN:VTIMEZONE
TZID:America/Boise
BEGIN:DAYLIGHT
TZOFFSETFROM:-0700
TZOFFSETTO:-0600
TZNAME:MDT
DTSTART:20250309T090000
END:DAYLIGHT
BEGIN:STANDARD
TZOFFSETFROM:-0600
TZOFFSETTO:-0700
TZNAME:MST
DTSTART:20251102T080000
END:STANDARD
BEGIN:DAYLIGHT
TZOFFSETFROM:-0700
TZOFFSETTO:-0600
TZNAME:MDT
DTSTART:20260308T090000
END:DAYLIGHT
BEGIN:STANDARD
TZOFFSETFROM:-0600
TZOFFSETTO:-0700
TZNAME:MST
DTSTART:20261101T080000
END:STANDARD
BEGIN:DAYLIGHT
TZOFFSETFROM:-0700
TZOFFSETTO:-0600
TZNAME:MDT
DTSTART:20270314T090000
END:DAYLIGHT
BEGIN:STANDARD
TZOFFSETFROM:-0600
TZOFFSETTO:-0700
TZNAME:MST
DTSTART:20271107T080000
END:STANDARD
END:VTIMEZONE
BEGIN:VEVENT
DTSTART;TZID=America/Boise:20260423T100000
DTEND;TZID=America/Boise:20260423T153000
DTSTAMP:20260423T014831
CREATED:20260327T163749Z
LAST-MODIFIED:20260327T163749Z
UID:4884-1776938400-1776958200@ifhcidaho.org
SUMMARY:Fair Housing in Lewiston Idaho
DESCRIPTION:
URL:https://ifhcidaho.org/event/fair-housing-in-lewiston-idaho/
LOCATION:215 D Street Lewiston\, 215 D Street\, Lewiston\, ID\, 83501\, United States
ATTACH;FMTTYPE=image/png:https://ifhcidaho.org/wp-content/uploads/2026/03/Lewiston-1.png
END:VEVENT
END:VCALENDAR